BEGIN:VCALENDAR
VERSION:2.0
PRODID:-//Blainville-sur-l&#039;Eau - ECPv5.3.2.1//NONSGML v1.0//EN
CALSCALE:GREGORIAN
METHOD:PUBLISH
X-WR-CALNAME:Blainville-sur-l&#039;Eau
X-ORIGINAL-URL:https://blainvillesurleau.fr
X-WR-CALDESC:évènements pour Blainville-sur-l&#039;Eau
BEGIN:VTIMEZONE
TZID:Europe/Paris
BEGIN:DAYLIGHT
TZOFFSETFROM:+0100
TZOFFSETTO:+0200
TZNAME:CEST
DTSTART:20200329T010000
END:DAYLIGHT
BEGIN:STANDARD
TZOFFSETFROM:+0200
TZOFFSETTO:+0100
TZNAME:CET
DTSTART:20201025T010000
END:STANDARD
END:VTIMEZONE
BEGIN:VEVENT
DTSTART;TZID=Europe/Paris:20200816T090000
DTEND;TZID=Europe/Paris:20200816T110000
DTSTAMP:20260424T010903
CREATED:20200616T063722Z
LAST-MODIFIED:20200805T102929Z
UID:10314-1597568400-1597575600@blainvillesurleau.fr
SUMMARY:À vos baskets
DESCRIPTION:Rendez-vous sportif organisé par la Municipalité. \n\n\n\n\nAnimation gratuite – Sans inscription – Ouverte à tous \nRendez-vous au lavoir \n\n\n\n\n\n\n\n\n\n  9 h 00 départ de la marche de 10 km\n10 h 00 départ de la marche 5 km et courses de 5 & 10 km\n11 h 00 rafraichissement offert par la mairie de Blainville-sur-l’Eau
URL:https://blainvillesurleau.fr/evenement/a-vos-baskets-2/
LOCATION:rue de la Filature\, rue de la Filature\, Blainville-sur-l'Eau\, 54360\, France
CATEGORIES:Mairie
ATTACH;FMTTYPE=image/jpeg:https://blainvillesurleau.fr/wp-content/uploads/2020/08/2020-A-vos-baskets-affiche1608.jpg
ORGANIZER;CN="Ville%20de%20Blainville-sur-l%27Eau":MAILTO:mairie@blainvillesurleau.fr
END:VEVENT
END:VCALENDAR