BEGIN:VCALENDAR
VERSION:2.0
PRODID:-//Blainville-sur-l&#039;Eau - ECPv5.3.2.1//NONSGML v1.0//EN
CALSCALE:GREGORIAN
METHOD:PUBLISH
X-WR-CALNAME:Blainville-sur-l&#039;Eau
X-ORIGINAL-URL:https://blainvillesurleau.fr
X-WR-CALDESC:évènements pour Blainville-sur-l&#039;Eau
BEGIN:VTIMEZONE
TZID:Europe/Paris
BEGIN:DAYLIGHT
TZOFFSETFROM:+0100
TZOFFSETTO:+0200
TZNAME:CEST
DTSTART:20190331T010000
END:DAYLIGHT
BEGIN:STANDARD
TZOFFSETFROM:+0200
TZOFFSETTO:+0100
TZNAME:CET
DTSTART:20191027T010000
END:STANDARD
END:VTIMEZONE
BEGIN:VEVENT
DTSTART;TZID=Europe/Paris:20191127T143000
DTEND;TZID=Europe/Paris:20191127T153000
DTSTAMP:20260419T172747
CREATED:20191029T083303Z
LAST-MODIFIED:20191029T083518Z
UID:8136-1574865000-1574868600@blainvillesurleau.fr
SUMMARY:L'heure du conte
DESCRIPTION:L’heure du conte est proposée par la Médiathèque l’Eau Vive et animée par l’Association des Amis de Georges et l’Association Parent’aise et Ti’noun. \nInscription obligatoire à la Médiathèque.
URL:https://blainvillesurleau.fr/evenement/lheure-du-conte-3/
CATEGORIES:Médiathèque
ATTACH;FMTTYPE=image/jpeg:https://blainvillesurleau.fr/wp-content/uploads/2019/10/2019lheure-du-conte.jpg
END:VEVENT
END:VCALENDAR