BEGIN:VCALENDAR
VERSION:2.0
PRODID:-//Blainville-sur-l&#039;Eau - ECPv5.3.2.1//NONSGML v1.0//EN
CALSCALE:GREGORIAN
METHOD:PUBLISH
X-WR-CALNAME:Blainville-sur-l&#039;Eau
X-ORIGINAL-URL:https://blainvillesurleau.fr
X-WR-CALDESC:évènements pour Blainville-sur-l&#039;Eau
BEGIN:VTIMEZONE
TZID:Europe/Paris
BEGIN:DAYLIGHT
TZOFFSETFROM:+0100
TZOFFSETTO:+0200
TZNAME:CEST
DTSTART:20180325T010000
END:DAYLIGHT
BEGIN:STANDARD
TZOFFSETFROM:+0200
TZOFFSETTO:+0100
TZNAME:CET
DTSTART:20181028T010000
END:STANDARD
END:VTIMEZONE
BEGIN:VEVENT
DTSTART;TZID=Europe/Paris:20180922T213000
DTEND;TZID=Europe/Paris:20180922T235900
DTSTAMP:20260419T233645
CREATED:20180814T070920Z
LAST-MODIFIED:20180814T071939Z
UID:4592-1537651800-1537660740@blainvillesurleau.fr
SUMMARY:Soirée Chippendales
DESCRIPTION:  \n\n\n\n\n\n\n\n\n\n\n	\n		Partager ce contenu\n		FacebookTwitterLinkedInEmail
URL:https://blainvillesurleau.fr/evenement/soiree-chippendales/
LOCATION:MFC Blainville-sur-l’Eau\, France
CATEGORIES:Comité des Fêtes
ATTACH;FMTTYPE=image/jpeg:https://blainvillesurleau.fr/wp-content/uploads/2018/08/2018-CDF-affichechippendales.jpg
END:VEVENT
END:VCALENDAR