BEGIN:VCALENDAR
VERSION:2.0
PRODID:-//Blainville-sur-l&#039;Eau - ECPv5.3.2.1//NONSGML v1.0//EN
CALSCALE:GREGORIAN
METHOD:PUBLISH
X-WR-CALNAME:Blainville-sur-l&#039;Eau
X-ORIGINAL-URL:https://blainvillesurleau.fr
X-WR-CALDESC:évènements pour Blainville-sur-l&#039;Eau
BEGIN:VTIMEZONE
TZID:Europe/Paris
BEGIN:DAYLIGHT
TZOFFSETFROM:+0100
TZOFFSETTO:+0200
TZNAME:CEST
DTSTART:20200329T010000
END:DAYLIGHT
BEGIN:STANDARD
TZOFFSETFROM:+0200
TZOFFSETTO:+0100
TZNAME:CET
DTSTART:20201025T010000
END:STANDARD
END:VTIMEZONE
BEGIN:VEVENT
DTSTART;TZID=Europe/Paris:20200130T093000
DTEND;TZID=Europe/Paris:20200130T133000
DTSTAMP:20260419T202914
CREATED:20200127T102709Z
LAST-MODIFIED:20200130T142854Z
UID:8484-1580376600-1580391000@blainvillesurleau.fr
SUMMARY:Soirée du de rôles
DESCRIPTION:Le vendredi 31 janvier de 18 h 30 à 20 h 30 la ludothèque organise sa seconde soirée jeu de rôle.\nInscription préférable au 06 62 77 49 61 ou ludotheque@blainvillesurleau.fr.\nAnimation gratuite.
URL:https://blainvillesurleau.fr/evenement/soiree-du-de-roles/
LOCATION:Ludothèque\, 1 ter rue du presbytère\, Blainville sur l'eau\, 54360
CATEGORIES:Ludothèque
ATTACH;FMTTYPE=image/jpeg:https://blainvillesurleau.fr/wp-content/uploads/2020/01/2020-ludo-janvier.jpg
ORGANIZER;CN="Ludoth%C3%A8que":MAILTO:ludotheque@blainvillesurleau.fr
END:VEVENT
END:VCALENDAR