BEGIN:VCALENDAR
VERSION:2.0
PRODID:-//Blainville-sur-l&#039;Eau - ECPv5.3.2.1//NONSGML v1.0//EN
CALSCALE:GREGORIAN
METHOD:PUBLISH
X-WR-CALNAME:Blainville-sur-l&#039;Eau
X-ORIGINAL-URL:https://blainvillesurleau.fr
X-WR-CALDESC:évènements pour Blainville-sur-l&#039;Eau
BEGIN:VTIMEZONE
TZID:Europe/Paris
BEGIN:DAYLIGHT
TZOFFSETFROM:+0100
TZOFFSETTO:+0200
TZNAME:CEST
DTSTART:20190331T010000
END:DAYLIGHT
BEGIN:STANDARD
TZOFFSETFROM:+0200
TZOFFSETTO:+0100
TZNAME:CET
DTSTART:20191027T010000
END:STANDARD
BEGIN:DAYLIGHT
TZOFFSETFROM:+0100
TZOFFSETTO:+0200
TZNAME:CEST
DTSTART:20200329T010000
END:DAYLIGHT
BEGIN:STANDARD
TZOFFSETFROM:+0200
TZOFFSETTO:+0100
TZNAME:CET
DTSTART:20201025T010000
END:STANDARD
END:VTIMEZONE
BEGIN:VEVENT
DTSTART;TZID=Europe/Paris:20191231T200000
DTEND;TZID=Europe/Paris:20200101T040000
DTSTAMP:20260419T185837
CREATED:20191003T094021Z
LAST-MODIFIED:20191212T140417Z
UID:7842-1577822400-1577851200@blainvillesurleau.fr
SUMMARY:St Sylvestre
DESCRIPTION:Le comité des fêtes de Blainville-sur-l’Eau organise\, cette année encore\, son réveillon de la St Sylvestre. \nLe bulletin de réservation est disponible ici \n 
URL:https://blainvillesurleau.fr/evenement/st-sylvestre/
LOCATION:MFC Blainville-sur-l’Eau\, France
ATTACH;FMTTYPE=image/jpeg:https://blainvillesurleau.fr/wp-content/uploads/2019/10/2019-stsylvestre-web.jpg
END:VEVENT
END:VCALENDAR