BEGIN:VCALENDAR
VERSION:2.0
PRODID:-//Blainville-sur-l&#039;Eau - ECPv5.3.2.1//NONSGML v1.0//EN
CALSCALE:GREGORIAN
METHOD:PUBLISH
X-WR-CALNAME:Blainville-sur-l&#039;Eau
X-ORIGINAL-URL:https://blainvillesurleau.fr
X-WR-CALDESC:évènements pour Blainville-sur-l&#039;Eau
BEGIN:VTIMEZONE
TZID:Europe/Paris
BEGIN:DAYLIGHT
TZOFFSETFROM:+0100
TZOFFSETTO:+0200
TZNAME:CEST
DTSTART:20180325T010000
END:DAYLIGHT
BEGIN:STANDARD
TZOFFSETFROM:+0200
TZOFFSETTO:+0100
TZNAME:CET
DTSTART:20181028T010000
END:STANDARD
END:VTIMEZONE
BEGIN:VEVENT
DTSTART;TZID=Europe/Paris:20180923T130000
DTEND;TZID=Europe/Paris:20180923T180000
DTSTAMP:20260419T221627
CREATED:20180719T063406Z
LAST-MODIFIED:20180719T063406Z
UID:4255-1537707600-1537725600@blainvillesurleau.fr
SUMMARY:Vente de livres
DESCRIPTION:
URL:https://blainvillesurleau.fr/evenement/vente-de-livres/
LOCATION:Médiathèque l’Eau Vive\, Blainville-sur-l'Eau\, 54360\, France
CATEGORIES:Médiathèque
ATTACH;FMTTYPE=image/jpeg:https://blainvillesurleau.fr/wp-content/uploads/2018/07/2018-09-23-Mediathèque-vente-livre.jpg
END:VEVENT
END:VCALENDAR