BEGIN:VCALENDAR
VERSION:2.0
PRODID:-//Blainville-sur-l&#039;Eau - ECPv5.3.2.1//NONSGML v1.0//EN
CALSCALE:GREGORIAN
METHOD:PUBLISH
X-WR-CALNAME:Blainville-sur-l&#039;Eau
X-ORIGINAL-URL:https://blainvillesurleau.fr
X-WR-CALDESC:évènements pour Blainville-sur-l&#039;Eau
BEGIN:VTIMEZONE
TZID:Europe/Paris
BEGIN:DAYLIGHT
TZOFFSETFROM:+0100
TZOFFSETTO:+0200
TZNAME:CEST
DTSTART:20190331T010000
END:DAYLIGHT
BEGIN:STANDARD
TZOFFSETFROM:+0200
TZOFFSETTO:+0100
TZNAME:CET
DTSTART:20191027T010000
END:STANDARD
END:VTIMEZONE
BEGIN:VEVENT
DTSTART;TZID=Europe/Paris:20191013T090000
DTEND;TZID=Europe/Paris:20191013T170000
DTSTAMP:20260419T160109
CREATED:20190626T075719Z
LAST-MODIFIED:20190909T140450Z
UID:7490-1570957200-1570986000@blainvillesurleau.fr
SUMMARY:Vide-dressing
DESCRIPTION:Vide dressing d’automne organisé par le Comité des Fêtes de Blainville-sur-l’Eau\nDimanche 13 octobre\nde 9 h 00 à 17 h 00\nMaison des Fêtes et de la Culture\nBLAINVILLE-SUR-L’EAU \nBulletin de réservation disponible ici\nRenseignements et réservations\n06 95 88 08 67\ncomitedesfetes@blainvillesurleau.fr\nFacebook\n@cdf54360blainville
URL:https://blainvillesurleau.fr/evenement/videdressing/
LOCATION:MFC Blainville-sur-l’Eau\, France
CATEGORIES:Comité des Fêtes
ATTACH;FMTTYPE=image/jpeg:https://blainvillesurleau.fr/wp-content/uploads/2019/06/2019-vide-dressing-10-13.jpg
END:VEVENT
END:VCALENDAR