BEGIN:VCALENDAR
VERSION:2.0
PRODID:-//Blainville-sur-l&#039;Eau - ECPv5.3.2.1//NONSGML v1.0//EN
CALSCALE:GREGORIAN
METHOD:PUBLISH
X-WR-CALNAME:Blainville-sur-l&#039;Eau
X-ORIGINAL-URL:https://blainvillesurleau.fr
X-WR-CALDESC:évènements pour Blainville-sur-l&#039;Eau
BEGIN:VTIMEZONE
TZID:Europe/Paris
BEGIN:DAYLIGHT
TZOFFSETFROM:+0100
TZOFFSETTO:+0200
TZNAME:CEST
DTSTART:20180325T010000
END:DAYLIGHT
BEGIN:STANDARD
TZOFFSETFROM:+0200
TZOFFSETTO:+0100
TZNAME:CET
DTSTART:20181028T010000
END:STANDARD
END:VTIMEZONE
BEGIN:VEVENT
DTSTART;TZID=Europe/Paris:20180901T080000
DTEND;TZID=Europe/Paris:20181013T173000
DTSTAMP:20260420T025304
CREATED:20180823T091539Z
LAST-MODIFIED:20180823T091900Z
UID:4738-1535788800-1539451800@blainvillesurleau.fr
SUMMARY:Concours de livres illustrés
DESCRIPTION:Le règlement et la fiche d’inscription sont téléchargeables ici \nRèglement du concours \nFiche d’inscription \n\n\n\n\n\n\n\n\n\n\n	\n		Partager ce contenu\n		FacebookTwitterLinkedInEmail
URL:https://blainvillesurleau.fr/evenement/concours-de-livres-illustres/
LOCATION:Médiathèque l’Eau Vive\, Blainville-sur-l'Eau\, 54360\, France
CATEGORIES:Médiathèque
ATTACH;FMTTYPE=image/jpeg:https://blainvillesurleau.fr/wp-content/uploads/2018/08/2018-Afficheconcourssepte.jpg
END:VEVENT
BEGIN:VEVENT
DTSTART;TZID=Europe/Paris:20181002T080000
DTEND;TZID=Europe/Paris:20181031T170000
DTSTAMP:20260420T025304
CREATED:20180807T125105Z
LAST-MODIFIED:20180807T125216Z
UID:4461-1538467200-1541005200@blainvillesurleau.fr
SUMMARY:Exposition
DESCRIPTION:Exposition « L’écho des tranchées » du 2 au 31 octobre 2018.Découvrez 19 des meilleures séries et albums de bandes dessinées qui traitent de la Première Guerre mondiale. De Jacques Tardi à Jean-Pierre Gibrat\, de Nicolas Dumontheuil à Pascal Rabaté\, et bien d’autres encore\, quand les approches thématiques et graphiques se multiplient pour le plus grand plaisir des lecteurs… \nExposition\, prêtée par la médiathèque départementale de Laxou. Visible aux heures d’ouverture de la médiathèque. \n\n\n\n\n\n\n	\n		Partager ce contenu\n		FacebookTwitterLinkedInEmail
URL:https://blainvillesurleau.fr/evenement/exposition-2/
LOCATION:Médiathèque l’Eau Vive\, Blainville-sur-l'Eau\, 54360\, France
CATEGORIES:Médiathèque
ATTACH;FMTTYPE=image/jpeg:https://blainvillesurleau.fr/wp-content/uploads/2018/08/2018-10-Mediatheque-image-expo.jpg
END:VEVENT
END:VCALENDAR