BEGIN:VCALENDAR
VERSION:2.0
PRODID:-//Blainville-sur-l&#039;Eau - ECPv5.3.2.1//NONSGML v1.0//EN
CALSCALE:GREGORIAN
METHOD:PUBLISH
X-WR-CALNAME:Blainville-sur-l&#039;Eau
X-ORIGINAL-URL:https://blainvillesurleau.fr
X-WR-CALDESC:évènements pour Blainville-sur-l&#039;Eau
BEGIN:VTIMEZONE
TZID:Europe/Paris
BEGIN:DAYLIGHT
TZOFFSETFROM:+0100
TZOFFSETTO:+0200
TZNAME:CEST
DTSTART:20180325T010000
END:DAYLIGHT
BEGIN:STANDARD
TZOFFSETFROM:+0200
TZOFFSETTO:+0100
TZNAME:CET
DTSTART:20181028T010000
END:STANDARD
BEGIN:DAYLIGHT
TZOFFSETFROM:+0100
TZOFFSETTO:+0200
TZNAME:CEST
DTSTART:20190331T010000
END:DAYLIGHT
BEGIN:STANDARD
TZOFFSETFROM:+0200
TZOFFSETTO:+0100
TZNAME:CET
DTSTART:20191027T010000
END:STANDARD
END:VTIMEZONE
BEGIN:VEVENT
DTSTART;TZID=Europe/Paris:20181201T080000
DTEND;TZID=Europe/Paris:20190105T170000
DTSTAMP:20260419T222836
CREATED:20181030T152327Z
LAST-MODIFIED:20181030T152327Z
UID:5371-1543651200-1546707600@blainvillesurleau.fr
SUMMARY:Concours de Noël
DESCRIPTION:Concours de Noël organisé par la Médiathèque l’Eau Vive.\nLe thème de cette année est « Fabrique ton sapin de Noël ».\nLe règlement du concours et les bulletins d’inscription sont téléchargeables \nRèglement \nBulletin individuel\nBulletin groupe
URL:https://blainvillesurleau.fr/evenement/concours-de-noel/
LOCATION:Médiathèque l’Eau Vive\, Blainville-sur-l'Eau\, 54360\, France
ATTACH;FMTTYPE=image/jpeg:https://blainvillesurleau.fr/wp-content/uploads/2018/10/2018-Concours-sapin-noel.jpg
END:VEVENT
BEGIN:VEVENT
DTSTART;TZID=Europe/Paris:20181201T080000
DTEND;TZID=Europe/Paris:20190105T170000
DTSTAMP:20260419T222836
CREATED:20181107T082711Z
LAST-MODIFIED:20181107T082711Z
UID:5423-1543651200-1546707600@blainvillesurleau.fr
SUMMARY:Concours
DESCRIPTION:Concours « dessine un poilu » organisé par la Médiathèque \nRèglement \nBulletin d’inscription
URL:https://blainvillesurleau.fr/evenement/concours/
LOCATION:Médiathèque l’Eau Vive\, Blainville-sur-l'Eau\, 54360\, France
CATEGORIES:Médiathèque
ATTACH;FMTTYPE=image/jpeg:https://blainvillesurleau.fr/wp-content/uploads/2018/10/2018-DECEMBRE-concours.jpg
END:VEVENT
BEGIN:VEVENT
DTSTART;TZID=Europe/Paris:20181231T200000
DTEND;TZID=Europe/Paris:20190101T040000
DTSTAMP:20260419T222836
CREATED:20180926T124511Z
LAST-MODIFIED:20180926T124749Z
UID:5041-1546286400-1546315200@blainvillesurleau.fr
SUMMARY:Réveillon St Sylvestre
DESCRIPTION:Réveillon de la St Sylvestre organisé par le Comité des Fêtes de Blainville-sur-l’EauMaison des Fêtes et de la Culture. \nBulletin d’inscription téléchargeable ici
URL:https://blainvillesurleau.fr/evenement/reveillon-st-sylvestre-comite-des-fetes-blainville-sur-leau/
LOCATION:MFC Blainville-sur-l’Eau\, France
CATEGORIES:Comité des Fêtes
ATTACH;FMTTYPE=image/jpeg:https://blainvillesurleau.fr/wp-content/uploads/2018/09/2018-CDF-Reveillon-st-sylvestre.jpg
END:VEVENT
END:VCALENDAR