BEGIN:VCALENDAR
VERSION:2.0
PRODID:-//Blainville-sur-l&#039;Eau - ECPv5.3.2.1//NONSGML v1.0//EN
CALSCALE:GREGORIAN
METHOD:PUBLISH
X-WR-CALNAME:Blainville-sur-l&#039;Eau
X-ORIGINAL-URL:https://blainvillesurleau.fr
X-WR-CALDESC:évènements pour Blainville-sur-l&#039;Eau
BEGIN:VTIMEZONE
TZID:Europe/Paris
BEGIN:DAYLIGHT
TZOFFSETFROM:+0100
TZOFFSETTO:+0200
TZNAME:CEST
DTSTART:20190331T010000
END:DAYLIGHT
BEGIN:STANDARD
TZOFFSETFROM:+0200
TZOFFSETTO:+0100
TZNAME:CET
DTSTART:20191027T010000
END:STANDARD
END:VTIMEZONE
BEGIN:VEVENT
DTSTART;TZID=Europe/Paris:20191008T190000
DTEND;TZID=Europe/Paris:20191008T210000
DTSTAMP:20260419T160211
CREATED:20191003T071827Z
LAST-MODIFIED:20191003T072338Z
UID:7815-1570561200-1570568400@blainvillesurleau.fr
SUMMARY:Karaoké
DESCRIPTION:Une grande soirée karaoké est proposée par la ludothèque le mardi 8 octobre\nde 19 h 00 à 21 h 00 dans la salle des grands de Macaron. \nCette animation est ouverte à tous\, sans limite d’âge. \nInformations complémentaires et réservations au 06 62 77 49 61 ou ludotheque@blainvillesurleau.fr
URL:https://blainvillesurleau.fr/evenement/karaoke/
LOCATION:Macaron\, 3 cour Jean Jaurès\, Blainville-sur-l'eau\, 54360\, France
CATEGORIES:Ludothèque
ATTACH;FMTTYPE=image/jpeg:https://blainvillesurleau.fr/wp-content/uploads/2019/10/AFFICHE-KARAOKE-A6Web.jpg
ORGANIZER;CN="Ludoth%C3%A8que":MAILTO:ludotheque@blainvillesurleau.fr
END:VEVENT
END:VCALENDAR