BEGIN:VCALENDAR
VERSION:2.0
PRODID:-//Blainville-sur-l&#039;Eau - ECPv5.3.2.1//NONSGML v1.0//EN
CALSCALE:GREGORIAN
METHOD:PUBLISH
X-WR-CALNAME:Blainville-sur-l&#039;Eau
X-ORIGINAL-URL:https://blainvillesurleau.fr
X-WR-CALDESC:évènements pour Blainville-sur-l&#039;Eau
BEGIN:VTIMEZONE
TZID:Europe/Paris
BEGIN:DAYLIGHT
TZOFFSETFROM:+0100
TZOFFSETTO:+0200
TZNAME:CEST
DTSTART:20190331T010000
END:DAYLIGHT
BEGIN:STANDARD
TZOFFSETFROM:+0200
TZOFFSETTO:+0100
TZNAME:CET
DTSTART:20191027T010000
END:STANDARD
END:VTIMEZONE
BEGIN:VEVENT
DTSTART;TZID=Europe/Paris:20191012T170000
DTEND;TZID=Europe/Paris:20191012T233000
DTSTAMP:20260419T160238
CREATED:20190819T132123Z
LAST-MODIFIED:20191004T132755Z
UID:7182-1570899600-1570923000@blainvillesurleau.fr
SUMMARY:Le jour de la nuit - programme
DESCRIPTION: 
URL:https://blainvillesurleau.fr/evenement/le-jour-de-la-nuit/
LOCATION:rue de la Filature\, rue de la Filature\, Blainville-sur-l'Eau\, 54360\, France
CATEGORIES:Mairie
ATTACH;FMTTYPE=image/jpeg:https://blainvillesurleau.fr/wp-content/uploads/2019/08/2019-programme-jour-de-la-nuit-1.jpg
ORGANIZER;CN="Ville%20de%20Blainville-sur-l%27Eau":MAILTO:mairie@blainvillesurleau.fr
END:VEVENT
END:VCALENDAR