BEGIN:VCALENDAR
VERSION:2.0
PRODID:-//Blainville-sur-l&#039;Eau - ECPv5.3.2.1//NONSGML v1.0//EN
CALSCALE:GREGORIAN
METHOD:PUBLISH
X-WR-CALNAME:Blainville-sur-l&#039;Eau
X-ORIGINAL-URL:https://blainvillesurleau.fr
X-WR-CALDESC:évènements pour Blainville-sur-l&#039;Eau
BEGIN:VTIMEZONE
TZID:Europe/Paris
BEGIN:DAYLIGHT
TZOFFSETFROM:+0100
TZOFFSETTO:+0200
TZNAME:CEST
DTSTART:20190331T010000
END:DAYLIGHT
BEGIN:STANDARD
TZOFFSETFROM:+0200
TZOFFSETTO:+0100
TZNAME:CET
DTSTART:20191027T010000
END:STANDARD
END:VTIMEZONE
BEGIN:VEVENT
DTSTART;TZID=Europe/Paris:20191022T080000
DTEND;TZID=Europe/Paris:20191026T170000
DTSTAMP:20260419T160232
CREATED:20191007T074017Z
LAST-MODIFIED:20191007T075236Z
UID:7879-1571731200-1572109200@blainvillesurleau.fr
SUMMARY:Halloween à la Ludo
DESCRIPTION:Du 22 au 26 octobre 2019 la Ludothèque propose la création d’un film d’horreur « Halloweenesque ».\nToutes les étapes de cette superproduction seront passées au crible. Le tournage se fera dans la foulée.\nCette animation est gratuite et ouverte à tous (aucune limite d’âge).\nInscriptions et renseignements 06 62 77 49 612 ou ludotheque@blainvillesurleau.fr \nEn période de vacances scolaires les horaires de la Ludothèque sont les suivants : \n\nles mardis et vendredis 15 h – 19 h 00\nle mercredi 9 h 30 – 11 h 30 et 14 h 30 – 17 h 00\nle samedi 14 h 30 – 17 h 00.
URL:https://blainvillesurleau.fr/evenement/halloween-a-la-ludo/
LOCATION:Ludothèque\, 1 ter rue du presbytère\, Blainville sur l'eau\, 54360
CATEGORIES:Ludothèque
ATTACH;FMTTYPE=image/jpeg:https://blainvillesurleau.fr/wp-content/uploads/2019/10/2019-Ludotheque-halloween.jpg
ORGANIZER;CN="Ludoth%C3%A8que":MAILTO:ludotheque@blainvillesurleau.fr
END:VEVENT
END:VCALENDAR