BEGIN:VCALENDAR
VERSION:2.0
PRODID:-//Blainville-sur-l&#039;Eau - ECPv5.3.2.1//NONSGML v1.0//EN
CALSCALE:GREGORIAN
METHOD:PUBLISH
X-WR-CALNAME:Blainville-sur-l&#039;Eau
X-ORIGINAL-URL:https://blainvillesurleau.fr
X-WR-CALDESC:évènements pour Blainville-sur-l&#039;Eau
BEGIN:VTIMEZONE
TZID:Europe/Paris
BEGIN:DAYLIGHT
TZOFFSETFROM:+0100
TZOFFSETTO:+0200
TZNAME:CEST
DTSTART:20190331T010000
END:DAYLIGHT
BEGIN:STANDARD
TZOFFSETFROM:+0200
TZOFFSETTO:+0100
TZNAME:CET
DTSTART:20191027T010000
END:STANDARD
END:VTIMEZONE
BEGIN:VEVENT
DTSTART;TZID=Europe/Paris:20191026T200000
DTEND;TZID=Europe/Paris:20191027T010000
DTSTAMP:20260419T160340
CREATED:20190912T073715Z
LAST-MODIFIED:20191014T095139Z
UID:7510-1572120000-1572138000@blainvillesurleau.fr
SUMMARY:Soirée années 80
DESCRIPTION:Soirée années 80 organisée par le Comité des Fêtes de Blainville-sur-l’Eau \nElle se déroulera le samedi 26 octobre à 20 heures à la MFC. \nBulletin d’inscription disponible ici \n 
URL:https://blainvillesurleau.fr/evenement/soiree-annees-80-2/
LOCATION:MFC Blainville-sur-l’Eau\, France
CATEGORIES:Comité des Fêtes
ATTACH;FMTTYPE=image/jpeg:https://blainvillesurleau.fr/wp-content/uploads/2019/09/2019-Annees-80-10-26complet.jpg
END:VEVENT
BEGIN:VEVENT
DTSTART;TZID=Europe/Paris:20191027T100000
DTEND;TZID=Europe/Paris:20191027T173000
DTSTAMP:20260419T160340
CREATED:20191011T123913Z
LAST-MODIFIED:20191011T123913Z
UID:7968-1572170400-1572197400@blainvillesurleau.fr
SUMMARY:Animation brasserie
DESCRIPTION:Dans le cadre de l’année du patrimoine une animation autour de la brasserie artisanale est proposée. \nElle débutera à 10 h 00 par un atelier de brassage à la Brasserie « Le Paradis ». À 12 h 00 barbecue (type auberge espagnole) et ensuite à 15 h 30 animation musicale. \nGratuit et ouvert à tous. \n 
URL:https://blainvillesurleau.fr/evenement/animation-brasserie/
LOCATION:rue de la Filature\, rue de la Filature\, Blainville-sur-l'Eau\, 54360\, France
CATEGORIES:Mairie
ATTACH;FMTTYPE=image/jpeg:https://blainvillesurleau.fr/wp-content/uploads/2019/10/2019-_-Brasserie.jpg
ORGANIZER;CN="Ville%20de%20Blainville-sur-l%27Eau":MAILTO:mairie@blainvillesurleau.fr
END:VEVENT
END:VCALENDAR