BEGIN:VCALENDAR
VERSION:2.0
PRODID:-//Blainville-sur-l&#039;Eau - ECPv5.3.2.1//NONSGML v1.0//EN
CALSCALE:GREGORIAN
METHOD:PUBLISH
X-WR-CALNAME:Blainville-sur-l&#039;Eau
X-ORIGINAL-URL:https://blainvillesurleau.fr
X-WR-CALDESC:évènements pour Blainville-sur-l&#039;Eau
BEGIN:VTIMEZONE
TZID:Europe/Paris
BEGIN:DAYLIGHT
TZOFFSETFROM:+0100
TZOFFSETTO:+0200
TZNAME:CEST
DTSTART:20190331T010000
END:DAYLIGHT
BEGIN:STANDARD
TZOFFSETFROM:+0200
TZOFFSETTO:+0100
TZNAME:CET
DTSTART:20191027T010000
END:STANDARD
END:VTIMEZONE
BEGIN:VEVENT
DTSTART;TZID=Europe/Paris:20191124T130000
DTEND;TZID=Europe/Paris:20191124T190000
DTSTAMP:20260419T172701
CREATED:20190925T100202Z
LAST-MODIFIED:20190925T100226Z
UID:7695-1574600400-1574622000@blainvillesurleau.fr
SUMMARY:Loto
DESCRIPTION:Le Comité des Fêtes de Blainville-sur-l’Eau organise un loto le dimanche 24 novembre 2019. \nCette animation se déroulera à la Maison des Fêtes et de la Culture à partir de 14 h 00. \nPour toutes informations complémentaires ou réservations 06 95 88 08 67
URL:https://blainvillesurleau.fr/evenement/loto/
LOCATION:MFC Blainville-sur-l’Eau\, France
CATEGORIES:Comité des Fêtes
ATTACH;FMTTYPE=image/jpeg:https://blainvillesurleau.fr/wp-content/uploads/2019/09/2019-_-11-24-Loto.jpg
END:VEVENT
END:VCALENDAR