BEGIN:VCALENDAR
VERSION:2.0
PRODID:-//Blainville-sur-l&#039;Eau - ECPv5.3.2.1//NONSGML v1.0//EN
CALSCALE:GREGORIAN
METHOD:PUBLISH
X-WR-CALNAME:Blainville-sur-l&#039;Eau
X-ORIGINAL-URL:https://blainvillesurleau.fr
X-WR-CALDESC:évènements pour Blainville-sur-l&#039;Eau
BEGIN:VTIMEZONE
TZID:Europe/Paris
BEGIN:DAYLIGHT
TZOFFSETFROM:+0100
TZOFFSETTO:+0200
TZNAME:CEST
DTSTART:20200329T010000
END:DAYLIGHT
BEGIN:STANDARD
TZOFFSETFROM:+0200
TZOFFSETTO:+0100
TZNAME:CET
DTSTART:20201025T010000
END:STANDARD
END:VTIMEZONE
BEGIN:VEVENT
DTSTART;TZID=Europe/Paris:20200201T203000
DTEND;TZID=Europe/Paris:20200201T223000
DTSTAMP:20260419T201037
CREATED:20200120T082748Z
LAST-MODIFIED:20200120T082759Z
UID:8436-1580589000-1580596200@blainvillesurleau.fr
SUMMARY:Spectacle EMEA
DESCRIPTION:Les différentes classes instrumentales\, vocales et théâtrales (enfants) seront sur la scène de la MFC samedi 1e février à 20 h 30.\nIls présenteront une pièce créée pour l’occasion qui ne manquera pas de quiproquos et d’humour ! \nElles seront accompagnées par l’association Expression danse.
URL:https://blainvillesurleau.fr/evenement/spectacle-emea/
LOCATION:MFC Blainville-sur-l’Eau\, France
CATEGORIES:EMEA
ATTACH;FMTTYPE=image/jpeg:https://blainvillesurleau.fr/wp-content/uploads/2020/01/2020-EMEA-spectacle-0102.jpg
ORGANIZER;CN="EMEA":MAILTO:ecoledemusique@blainvillesurleau.fr
END:VEVENT
END:VCALENDAR