BEGIN:VCALENDAR
VERSION:2.0
PRODID:-//Blainville-sur-l&#039;Eau - ECPv5.3.2.1//NONSGML v1.0//EN
CALSCALE:GREGORIAN
METHOD:PUBLISH
X-WR-CALNAME:Blainville-sur-l&#039;Eau
X-ORIGINAL-URL:https://blainvillesurleau.fr
X-WR-CALDESC:évènements pour Blainville-sur-l&#039;Eau
BEGIN:VTIMEZONE
TZID:Europe/Paris
BEGIN:DAYLIGHT
TZOFFSETFROM:+0100
TZOFFSETTO:+0200
TZNAME:CEST
DTSTART:20200329T010000
END:DAYLIGHT
BEGIN:STANDARD
TZOFFSETFROM:+0200
TZOFFSETTO:+0100
TZNAME:CET
DTSTART:20201025T010000
END:STANDARD
END:VTIMEZONE
BEGIN:VEVENT
DTSTART;TZID=Europe/Paris:20200208T203000
DTEND;TZID=Europe/Paris:20200208T223000
DTSTAMP:20260420T061233
CREATED:20200114T134955Z
LAST-MODIFIED:20200114T135032Z
UID:8400-1581193800-1581201000@blainvillesurleau.fr
SUMMARY:Théâtre
DESCRIPTION:1949\, Paris\nDans un quartier populaire\,  de jeunes militants se rassemblent dans leur local au fond d’une cour d’immeuble afin de trouver un cadeau pour leur héros.\nSans le savoir\, cette joyeuse équipe de bras cassés va participer à la Grande Histoire. \nUn Drôle de cadeau\, comédie  satirique\, réunissant des personnages hauts en couleurs\, irrésistibles et émouvants. \nUne pièce dépaysante  qui  nous replonge dans une France d’après-guerre.
URL:https://blainvillesurleau.fr/evenement/theatre-3/
LOCATION:MFC Blainville-sur-l’Eau\, France
CATEGORIES:Comité des Fêtes
ATTACH;FMTTYPE=image/jpeg:https://blainvillesurleau.fr/wp-content/uploads/2020/01/2020-affiche-theatre.jpg
END:VEVENT
END:VCALENDAR