BEGIN:VCALENDAR
VERSION:2.0
PRODID:-//Blainville-sur-l&#039;Eau - ECPv5.3.2.1//NONSGML v1.0//EN
CALSCALE:GREGORIAN
METHOD:PUBLISH
X-WR-CALNAME:Blainville-sur-l&#039;Eau
X-ORIGINAL-URL:https://blainvillesurleau.fr
X-WR-CALDESC:évènements pour Blainville-sur-l&#039;Eau
BEGIN:VTIMEZONE
TZID:Europe/Paris
BEGIN:DAYLIGHT
TZOFFSETFROM:+0100
TZOFFSETTO:+0200
TZNAME:CEST
DTSTART:20200329T010000
END:DAYLIGHT
BEGIN:STANDARD
TZOFFSETFROM:+0200
TZOFFSETTO:+0100
TZNAME:CET
DTSTART:20201025T010000
END:STANDARD
END:VTIMEZONE
BEGIN:VEVENT
DTSTART;TZID=Europe/Paris:20200216T130000
DTEND;TZID=Europe/Paris:20200216T180000
DTSTAMP:20260422T183041
CREATED:20200115T101806Z
LAST-MODIFIED:20200115T103057Z
UID:8404-1581858000-1581876000@blainvillesurleau.fr
SUMMARY:Les boucles du Haut des Places
DESCRIPTION:Les boucles du Haut des Places \nTrophée sport loisirs 2019/2020\nManifestation organisée par le Comité des Fêtes de Blainville-sur-l’Eau. \nCourses sur route et bois \nTélécharger le programme détaillé des courses ici \n  \n  \n  \n  \n 
URL:https://blainvillesurleau.fr/evenement/les-boucles-du-haut-des-places/
LOCATION:Collège Langevin Wallon\, Blainville-sur-l'Eau\, 54360\, France
CATEGORIES:Comité des Fêtes
ATTACH;FMTTYPE=image/jpeg:https://blainvillesurleau.fr/wp-content/uploads/2020/01/2020-Boucles-du-Haut-des-Places.jpg
END:VEVENT
END:VCALENDAR