BEGIN:VCALENDAR
VERSION:2.0
PRODID:-//Blainville-sur-l&#039;Eau - ECPv5.3.2.1//NONSGML v1.0//EN
CALSCALE:GREGORIAN
METHOD:PUBLISH
X-WR-CALNAME:Blainville-sur-l&#039;Eau
X-ORIGINAL-URL:https://blainvillesurleau.fr
X-WR-CALDESC:évènements pour Blainville-sur-l&#039;Eau
BEGIN:VTIMEZONE
TZID:Europe/Paris
BEGIN:DAYLIGHT
TZOFFSETFROM:+0100
TZOFFSETTO:+0200
TZNAME:CEST
DTSTART:20200329T010000
END:DAYLIGHT
BEGIN:STANDARD
TZOFFSETFROM:+0200
TZOFFSETTO:+0100
TZNAME:CET
DTSTART:20201025T010000
END:STANDARD
END:VTIMEZONE
BEGIN:VEVENT
DTSTART;TZID=Europe/Paris:20200530T060000
DTEND;TZID=Europe/Paris:20200802T233000
DTSTAMP:20260426T053839
CREATED:20200530T053839Z
LAST-MODIFIED:20200805T100743Z
UID:9845-1590818400-1596411000@blainvillesurleau.fr
SUMMARY:Prévention
DESCRIPTION:
URL:https://blainvillesurleau.fr/evenement/prevention/
ATTACH;FMTTYPE=image/jpeg:https://blainvillesurleau.fr/wp-content/uploads/2020/05/2020-feux-de-foret.jpg
END:VEVENT
BEGIN:VEVENT
DTSTART;TZID=Europe/Paris:20200621T090000
DTEND;TZID=Europe/Paris:20200621T110000
DTSTAMP:20260426T053839
CREATED:20200616T063722Z
LAST-MODIFIED:20200616T063722Z
UID:9924-1592730000-1592737200@blainvillesurleau.fr
SUMMARY:À vos baskets
DESCRIPTION:La Municipalité souhaite mettre en place des rendez-vous sportifs réguliers\, gratuits\, ouverts à tous et sans inscription. \nLe premier aura lieu le dimanche 21 juin 2020\, pour marcher ou courir dans un esprit convivial. \n\n– 2 parcours de marche (5 ou 10 km) et\n– 2 parcours de course (5 ou 10 km)\nvous seront proposés. \nLe programme\nRendez-vous au lavoir\, rue de la Filature\n– 8 h 30 – 8 h 45\nAccueil café\, offert par la Mairie \n– 8 h 50\nÉchauffement musical \n– 9 h 00\nDépart pour tous
URL:https://blainvillesurleau.fr/evenement/a-vos-baskets/
LOCATION:rue de la Filature\, rue de la Filature\, Blainville-sur-l'Eau\, 54360\, France
CATEGORIES:Mairie
ATTACH;FMTTYPE=image/jpeg:https://blainvillesurleau.fr/wp-content/uploads/2020/06/2020-21-06-_-a-vos-basket.jpg
ORGANIZER;CN="Ville%20de%20Blainville-sur-l%27Eau":MAILTO:mairie@blainvillesurleau.fr
END:VEVENT
END:VCALENDAR