BEGIN:VCALENDAR
VERSION:2.0
PRODID:-//Blainville-sur-l&#039;Eau - ECPv5.3.2.1//NONSGML v1.0//EN
CALSCALE:GREGORIAN
METHOD:PUBLISH
X-WR-CALNAME:Blainville-sur-l&#039;Eau
X-ORIGINAL-URL:https://blainvillesurleau.fr
X-WR-CALDESC:évènements pour Blainville-sur-l&#039;Eau
BEGIN:VTIMEZONE
TZID:Europe/Paris
BEGIN:DAYLIGHT
TZOFFSETFROM:+0100
TZOFFSETTO:+0200
TZNAME:CEST
DTSTART:20200329T010000
END:DAYLIGHT
BEGIN:STANDARD
TZOFFSETFROM:+0200
TZOFFSETTO:+0100
TZNAME:CET
DTSTART:20201025T010000
END:STANDARD
END:VTIMEZONE
BEGIN:VEVENT
DTSTART;TZID=Europe/Paris:20200901T080000
DTEND;TZID=Europe/Paris:20200901T170000
DTSTAMP:20260426T014850
CREATED:20200805T072527Z
LAST-MODIFIED:20200902T094118Z
UID:10156-1598947200-1598979600@blainvillesurleau.fr
SUMMARY:Atelier dessin fantasy
DESCRIPTION:Ateliers d’initiation au dessin de fantasy\nanimés par Olivier ROMAC\, auteur et illustrateur de fantasy. \n– samedi 19 septembre de 14 h 00 à 17 h 00 pour les 6-9 ans\,\n– samedi 26 septembre de 14 h 00 à 17 h 00 pour les 10-12 ans et + (les ados et les adultes sont les bienvenus !). \nCes ateliers permettront d’initier les participants à la création de personnages de fantasy facilement et de manière ludique. L’auteur conseillera et partagera son expérience avec son public. Venez exprimer vos talents en vous inscrivant à ces ateliers ! \nAteliers gratuits sur inscription à la Médiathèque
URL:https://blainvillesurleau.fr/evenement/atelier-dessin-fantasy/
CATEGORIES:Médiathèque
ATTACH;FMTTYPE=image/jpeg:https://blainvillesurleau.fr/wp-content/uploads/2020/07/2020-affiche-mediatheque.jpg
END:VEVENT
END:VCALENDAR