BEGIN:VCALENDAR
VERSION:2.0
PRODID:-//Blainville-sur-l&#039;Eau - ECPv5.3.2.1//NONSGML v1.0//EN
CALSCALE:GREGORIAN
METHOD:PUBLISH
X-WR-CALNAME:Blainville-sur-l&#039;Eau
X-ORIGINAL-URL:https://blainvillesurleau.fr
X-WR-CALDESC:évènements pour Blainville-sur-l&#039;Eau
BEGIN:VTIMEZONE
TZID:Europe/Paris
BEGIN:DAYLIGHT
TZOFFSETFROM:+0100
TZOFFSETTO:+0200
TZNAME:CEST
DTSTART:20200329T010000
END:DAYLIGHT
BEGIN:STANDARD
TZOFFSETFROM:+0200
TZOFFSETTO:+0100
TZNAME:CET
DTSTART:20201025T010000
END:STANDARD
END:VTIMEZONE
BEGIN:VEVENT
DTSTART;TZID=Europe/Paris:20200905T140000
DTEND;TZID=Europe/Paris:20200905T180000
DTSTAMP:20260426T014849
CREATED:20200805T115405Z
LAST-MODIFIED:20200805T115405Z
UID:10320-1599314400-1599328800@blainvillesurleau.fr
SUMMARY:Journée des associations
DESCRIPTION:Journée des associations organisée par la Municipalité le samedi 5 septembre 2020 de 14 h à 18 h. \nEntrée libre. Maison des Fêtes et de la Culture
URL:https://blainvillesurleau.fr/evenement/journee-des-associations-3/
LOCATION:MFC Blainville-sur-l’Eau\, France
CATEGORIES:Mairie
ATTACH;FMTTYPE=image/jpeg:https://blainvillesurleau.fr/wp-content/uploads/2020/08/2020-Journee-des-associations.jpg
ORGANIZER;CN="Ville%20de%20Blainville-sur-l%27Eau":MAILTO:mairie@blainvillesurleau.fr
END:VEVENT
END:VCALENDAR