BEGIN:VCALENDAR
VERSION:2.0
PRODID:-//Blainville-sur-l&#039;Eau - ECPv5.3.2.1//NONSGML v1.0//EN
CALSCALE:GREGORIAN
METHOD:PUBLISH
X-WR-CALNAME:Blainville-sur-l&#039;Eau
X-ORIGINAL-URL:https://blainvillesurleau.fr
X-WR-CALDESC:évènements pour Blainville-sur-l&#039;Eau
BEGIN:VTIMEZONE
TZID:Europe/Paris
BEGIN:DAYLIGHT
TZOFFSETFROM:+0100
TZOFFSETTO:+0200
TZNAME:CEST
DTSTART:20200329T010000
END:DAYLIGHT
BEGIN:STANDARD
TZOFFSETFROM:+0200
TZOFFSETTO:+0100
TZNAME:CET
DTSTART:20201025T010000
END:STANDARD
END:VTIMEZONE
BEGIN:VEVENT
DTSTART;TZID=Europe/Paris:20200927T093000
DTEND;TZID=Europe/Paris:20200927T173000
DTSTAMP:20260426T014927
CREATED:20200901T112704Z
LAST-MODIFIED:20200923T131455Z
UID:10382-1601199000-1601227800@blainvillesurleau.fr
SUMMARY:Brocante des couturières
DESCRIPTION:La 7ème brocante des couturières accueillera dimanche 27 septembre tous les visiteurs passionnés de couture et intéressés par les tissus\, fils\, aiguilles\, rubans\, boutons\, laine\, perles…\nCouturières\, tricoteuses\, brodeuses\, et tisseuses en tout genre seront présentes pour vous présenter soieries et dentelles\, mais aussi revues spécialisées et patrons.\nUn stand avec une machine à broder et ses démonstrations sera au rendez-vous.
URL:https://blainvillesurleau.fr/evenement/brocante-des-couturieres-3/
LOCATION:MFC Blainville-sur-l’Eau\, France
CATEGORIES:Comité des Fêtes
ATTACH;FMTTYPE=image/jpeg:https://blainvillesurleau.fr/wp-content/uploads/2020/09/BROCANTECOUTURIERE-1.jpg
END:VEVENT
END:VCALENDAR