BEGIN:VCALENDAR
VERSION:2.0
PRODID:-//Blainville-sur-l&#039;Eau - ECPv5.3.2.1//NONSGML v1.0//EN
CALSCALE:GREGORIAN
METHOD:PUBLISH
X-WR-CALNAME:Blainville-sur-l&#039;Eau
X-ORIGINAL-URL:https://blainvillesurleau.fr
X-WR-CALDESC:évènements pour Blainville-sur-l&#039;Eau
BEGIN:VTIMEZONE
TZID:Europe/Paris
BEGIN:DAYLIGHT
TZOFFSETFROM:+0100
TZOFFSETTO:+0200
TZNAME:CEST
DTSTART:20200329T010000
END:DAYLIGHT
BEGIN:STANDARD
TZOFFSETFROM:+0200
TZOFFSETTO:+0100
TZNAME:CET
DTSTART:20201025T010000
END:STANDARD
END:VTIMEZONE
BEGIN:VEVENT
DTSTART;TZID=Europe/Paris:20200309T080000
DTEND;TZID=Europe/Paris:20200309T170000
DTSTAMP:20260424T204021
CREATED:20200309T091035Z
LAST-MODIFIED:20200309T091101Z
UID:8755-1583740800-1583773200@blainvillesurleau.fr
SUMMARY:Soirée jeux d'ambiance
DESCRIPTION:La ludothèque vous propose de venir partager un bon moment en famille le mardi 10 mars 2020 de 16 h 30 à 20 h 00.\n \nVenez découvrir ou redécouvrir de nombreux jeux. Il y en aura pour tous et pour tous les âges… Times Up\, Halli Galli\, Clac Clac ou Crazy Cup.\n\nInscription préférable – Pas de limite d’âge –
URL:https://blainvillesurleau.fr/evenement/soiree-jeux-dambiance/
CATEGORIES:Ludothèque
ATTACH;FMTTYPE=image/jpeg:https://blainvillesurleau.fr/wp-content/uploads/2020/03/2020-Ludo-11-mars.jpg
END:VEVENT
END:VCALENDAR