BEGIN:VCALENDAR
VERSION:2.0
PRODID:-//Blainville-sur-l&#039;Eau - ECPv5.3.2.1//NONSGML v1.0//EN
CALSCALE:GREGORIAN
METHOD:PUBLISH
X-WR-CALNAME:Blainville-sur-l&#039;Eau
X-ORIGINAL-URL:https://blainvillesurleau.fr
X-WR-CALDESC:évènements pour Blainville-sur-l&#039;Eau
BEGIN:VTIMEZONE
TZID:Europe/Paris
BEGIN:DAYLIGHT
TZOFFSETFROM:+0100
TZOFFSETTO:+0200
TZNAME:CEST
DTSTART:20200329T010000
END:DAYLIGHT
BEGIN:STANDARD
TZOFFSETFROM:+0200
TZOFFSETTO:+0100
TZNAME:CET
DTSTART:20201025T010000
END:STANDARD
END:VTIMEZONE
BEGIN:VEVENT
DTSTART;TZID=Europe/Paris:20200606T143000
DTEND;TZID=Europe/Paris:20200606T170000
DTSTAMP:20260424T155452
CREATED:20200602T122646Z
LAST-MODIFIED:20200602T123303Z
UID:9847-1591453800-1591462800@blainvillesurleau.fr
SUMMARY:Jeu de rôle
DESCRIPTION:L’équipe de la Ludo vous donne rendez-vous dans la salle des Grands de Macaron (entrée par la rue de Gerbéviller) \nce samedi 6 juin de 14 h 30 à 17 h 00 \npour un jeu de rôle participatif dans lequel vous serez tous les maitres de jeu et tous les joueurs en même temps ! \n\nUn stylo\, une feuille de personnage à créer et le reste dépendra de l’histoire que VOUS allez créer ! \nUne expérience nouvelle pour un moment inoubliable ! \n\n\n  \n\n\n⚠️⚠️ INSCRIPTION OBLIGATOIRE  ⚠️⚠️ \n– AU 06 62 77 49 61 OU\n– LUDOTHEQUE@BLAINVILLESURLEAU.FR \nPlaces limitées \nSEULES LES PERSONNES INSCRITES POURRONT JOUER\nÂGE MINIMUM 10 ANS. \nPour plus de renseignements contactez la Ludo !!\nLudothèque de Blainville sur l’eau
URL:https://blainvillesurleau.fr/evenement/jeu-de-role-2/
LOCATION:Macaron\, 3 cour Jean Jaurès\, Blainville-sur-l'eau\, 54360\, France
CATEGORIES:Ludothèque
ATTACH;FMTTYPE=image/jpeg:https://blainvillesurleau.fr/wp-content/uploads/2020/06/AfficheSandbucket-A6-6JUIN.jpg
ORGANIZER;CN="Ludoth%C3%A8que":MAILTO:ludotheque@blainvillesurleau.fr
END:VEVENT
END:VCALENDAR