BEGIN:VCALENDAR
VERSION:2.0
PRODID:-//Blainville-sur-l&#039;Eau - ECPv5.3.2.1//NONSGML v1.0//EN
CALSCALE:GREGORIAN
METHOD:PUBLISH
X-WR-CALNAME:Blainville-sur-l&#039;Eau
X-ORIGINAL-URL:https://blainvillesurleau.fr
X-WR-CALDESC:évènements pour Blainville-sur-l&#039;Eau
BEGIN:VTIMEZONE
TZID:Europe/Paris
BEGIN:DAYLIGHT
TZOFFSETFROM:+0100
TZOFFSETTO:+0200
TZNAME:CEST
DTSTART:20200329T010000
END:DAYLIGHT
BEGIN:STANDARD
TZOFFSETFROM:+0200
TZOFFSETTO:+0100
TZNAME:CET
DTSTART:20201025T010000
END:STANDARD
END:VTIMEZONE
BEGIN:VEVENT
DTSTART;TZID=Europe/Paris:20200619T180000
DTEND;TZID=Europe/Paris:20200619T200000
DTSTAMP:20260424T155700
CREATED:20200611T064504Z
LAST-MODIFIED:20200611T085751Z
UID:9908-1592589600-1592596800@blainvillesurleau.fr
SUMMARY:Jeux du confinement
DESCRIPTION:Rendez-vous le vendredi 19 juin de 18 h 00 à 20 h 00 dans la salle des grands de Macaron.\nVenez tester les jeux du confinement !\nInscription obligatoire 06 62 77 49 61‬ ou ludotheque@blainvillesurleau.fr \n 
URL:https://blainvillesurleau.fr/evenement/9908/
LOCATION:Macaron\, 3 cour Jean Jaurès\, Blainville-sur-l'eau\, 54360\, France
CATEGORIES:Ludothèque
ATTACH;FMTTYPE=image/jpeg:https://blainvillesurleau.fr/wp-content/uploads/2020/06/2020-Ludotheque19juin.jpg
ORGANIZER;CN="Ludoth%C3%A8que":MAILTO:ludotheque@blainvillesurleau.fr
END:VEVENT
END:VCALENDAR