BEGIN:VCALENDAR
VERSION:2.0
PRODID:-//Blainville-sur-l&#039;Eau - ECPv5.3.2.1//NONSGML v1.0//EN
CALSCALE:GREGORIAN
METHOD:PUBLISH
X-WR-CALNAME:Blainville-sur-l&#039;Eau
X-ORIGINAL-URL:https://blainvillesurleau.fr
X-WR-CALDESC:évènements pour Blainville-sur-l&#039;Eau
BEGIN:VTIMEZONE
TZID:Europe/Paris
BEGIN:DAYLIGHT
TZOFFSETFROM:+0100
TZOFFSETTO:+0200
TZNAME:CEST
DTSTART:20200329T010000
END:DAYLIGHT
BEGIN:STANDARD
TZOFFSETFROM:+0200
TZOFFSETTO:+0100
TZNAME:CET
DTSTART:20201025T010000
END:STANDARD
END:VTIMEZONE
BEGIN:VEVENT
DTSTART;TZID=Europe/Paris:20200925T183000
DTEND;TZID=Europe/Paris:20200925T203000
DTSTAMP:20260424T105634
CREATED:20200918T075003Z
LAST-MODIFIED:20200918T075129Z
UID:10508-1601058600-1601065800@blainvillesurleau.fr
SUMMARY:Soirée jeu de rôle
DESCRIPTION:Les soirées jeu de rôle reprennent à la Ludo !\n\n\n\nVendredi 25 septembre l’équipe de la Ludo vous donne rendez-vous de 18 h 30 à 20 h 30 pour une soirée jeu de rôle.\nÂge minimum 10 ans.\n\n\n\nInscription obligatoire :\n– 06 62 77 49 61\n– ludotheque@blainvillesurleau.fr\n– page Facebook @laludodeblainvillesurleau  \n\n\n\nRespect des règles sanitaires en vigueur.
URL:https://blainvillesurleau.fr/evenement/soiree-jeu-de-role-2/
LOCATION:Ludothèque\, 1 ter rue du presbytère\, Blainville sur l'eau\, 54360
CATEGORIES:Ludothèque
ATTACH;FMTTYPE=image/jpeg:https://blainvillesurleau.fr/wp-content/uploads/2020/09/Ludotheque-jeux-de-roles2509.jpg
ORGANIZER;CN="Ludoth%C3%A8que":MAILTO:ludotheque@blainvillesurleau.fr
END:VEVENT
END:VCALENDAR