BEGIN:VCALENDAR
VERSION:2.0
PRODID:-//Blainville-sur-l&#039;Eau - ECPv5.3.2.1//NONSGML v1.0//EN
CALSCALE:GREGORIAN
METHOD:PUBLISH
X-WR-CALNAME:Blainville-sur-l&#039;Eau
X-ORIGINAL-URL:https://blainvillesurleau.fr
X-WR-CALDESC:évènements pour Blainville-sur-l&#039;Eau
BEGIN:VTIMEZONE
TZID:Europe/Paris
BEGIN:DAYLIGHT
TZOFFSETFROM:+0100
TZOFFSETTO:+0200
TZNAME:CEST
DTSTART:20180325T010000
END:DAYLIGHT
BEGIN:STANDARD
TZOFFSETFROM:+0200
TZOFFSETTO:+0100
TZNAME:CET
DTSTART:20181028T010000
END:STANDARD
END:VTIMEZONE
BEGIN:VEVENT
DTSTART;TZID=Europe/Paris:20180519T143000
DTEND;TZID=Europe/Paris:20180519T160000
DTSTAMP:20260425T142936
CREATED:20180502T075022Z
LAST-MODIFIED:20180502T075322Z
UID:3591-1526740200-1526745600@blainvillesurleau.fr
SUMMARY:Spectacle de contes
DESCRIPTION:Spectacle de contes \n« Comment femmes et hommes devinrent humains » \nanimé par la conteuse Béatrice Becquet. \nContes traditionnels des peuples peul et juif\, des contes de Finlande\, de Grèce\, d’Ukraine\, du Portugal\, du Sahara et de Carélie. \nContes tout public à partir de 6 ans.
URL:https://blainvillesurleau.fr/evenement/spectacle-de-contes/
LOCATION:Médiathèque l’Eau Vive\, Blainville-sur-l'Eau\, 54360\, France
CATEGORIES:Médiathèque
ATTACH;FMTTYPE=image/jpeg:https://blainvillesurleau.fr/wp-content/uploads/2018/05/2018-Mediatheque-affiche-contes.jpg
END:VEVENT
END:VCALENDAR