BEGIN:VCALENDAR
VERSION:2.0
PRODID:-//Blainville-sur-l&#039;Eau - ECPv5.3.2.1//NONSGML v1.0//EN
CALSCALE:GREGORIAN
METHOD:PUBLISH
X-WR-CALNAME:Blainville-sur-l&#039;Eau
X-ORIGINAL-URL:https://blainvillesurleau.fr
X-WR-CALDESC:évènements pour Blainville-sur-l&#039;Eau
BEGIN:VTIMEZONE
TZID:Europe/Paris
BEGIN:DAYLIGHT
TZOFFSETFROM:+0100
TZOFFSETTO:+0200
TZNAME:CEST
DTSTART:20190331T010000
END:DAYLIGHT
BEGIN:STANDARD
TZOFFSETFROM:+0200
TZOFFSETTO:+0100
TZNAME:CET
DTSTART:20191027T010000
END:STANDARD
END:VTIMEZONE
BEGIN:VEVENT
DTSTART;TZID=Europe/Paris:20190414T100000
DTEND;TZID=Europe/Paris:20190414T183000
DTSTAMP:20260424T232110
CREATED:20190301T102655Z
LAST-MODIFIED:20190321T162555Z
UID:6220-1555236000-1555266600@blainvillesurleau.fr
SUMMARY:Salon du livre
DESCRIPTION:Dimanche 14 avril\nde 10 h 00 à 18 h 00 à la Maison des Fêtes et de la Culture \nInvité d’honneur\nGilles Laporte \n45 auteurs présents\, des ateliers dessins animés par Karine MAINCENT\, Olivier ROMAC et Abdesselam BOUTADJINE. \nDe belles découvertes\, des rencontres et des dédicaces des auteurs en perspective ! \nProgramme détaillé format pdf ici \n  \n  \n  \n 
URL:https://blainvillesurleau.fr/evenement/salon-du-livre/
LOCATION:MFC Blainville-sur-l’Eau\, France
CATEGORIES:Médiathèque
ATTACH;FMTTYPE=image/jpeg:https://blainvillesurleau.fr/wp-content/uploads/2019/03/2019-Salon-du-livre.jpg
END:VEVENT
END:VCALENDAR