BEGIN:VCALENDAR
VERSION:2.0
PRODID:-//Blainville-sur-l&#039;Eau - ECPv5.3.2.1//NONSGML v1.0//EN
CALSCALE:GREGORIAN
METHOD:PUBLISH
X-WR-CALNAME:Blainville-sur-l&#039;Eau
X-ORIGINAL-URL:https://blainvillesurleau.fr
X-WR-CALDESC:évènements pour Blainville-sur-l&#039;Eau
BEGIN:VTIMEZONE
TZID:Europe/Paris
BEGIN:DAYLIGHT
TZOFFSETFROM:+0100
TZOFFSETTO:+0200
TZNAME:CEST
DTSTART:20190331T010000
END:DAYLIGHT
BEGIN:STANDARD
TZOFFSETFROM:+0200
TZOFFSETTO:+0100
TZNAME:CET
DTSTART:20191027T010000
END:STANDARD
END:VTIMEZONE
BEGIN:VEVENT
DTSTART;TZID=Europe/Paris:20191002T180000
DTEND;TZID=Europe/Paris:20191002T203000
DTSTAMP:20260424T144028
CREATED:20190917T124054Z
LAST-MODIFIED:20190917T133007Z
UID:7599-1570039200-1570048200@blainvillesurleau.fr
SUMMARY:Spectacle
DESCRIPTION:Spectacle culturel et musical organisé par la Médiathèque de Blainville-sur-l’Eau et Guy Lejaille\, auteur. \nAvec la participation de la chorale enfants de l’École Municipale d’Enseignements Artistiques pour une interprétation de certaines chansons du répertoire. \n 
URL:https://blainvillesurleau.fr/evenement/spectacle/
LOCATION:Médiathèque l’Eau Vive\, Blainville-sur-l'Eau\, 54360\, France
CATEGORIES:Médiathèque
ATTACH;FMTTYPE=image/jpeg:https://blainvillesurleau.fr/wp-content/uploads/2019/09/2019-_-Spectacle-culture-1.jpg
END:VEVENT
END:VCALENDAR